BEGIN:VCALENDAR
VERSION:2.0
PRODID:spatie/icalendar-generator
DESCRIPTION:Veranstaltungen von DRK-Kindertagsstätte Steverspatzen
X-WR-CALDESC:Veranstaltungen von DRK-Kindertagsstätte Steverspatzen
REFRESH-INTERVAL;VALUE=DURATION:PT1440M
X-PUBLISHED-TTL:PT1440M
BEGIN:VTIMEZONE
TZID:Europe/Berlin
BEGIN:STANDARD
DTSTART:20231029T030000Z
TZOFFSETFROM:+0200
TZOFFSETTO:+0100
END:STANDARD
BEGIN:DAYLIGHT
DTSTART:20240331T020000Z
TZOFFSETFROM:+0100
TZOFFSETTO:+0200
END:DAYLIGHT
END:VTIMEZONE
BEGIN:VTIMEZONE
TZID:UTC
BEGIN:STANDARD
DTSTART:20250726T101916Z
TZOFFSETFROM:+0000
TZOFFSETTO:+0000
END:STANDARD
END:VTIMEZONE
BEGIN:VEVENT
UID:18-18
DTSTAMP:20260422T101916Z
SUMMARY:KitaStart® (DRK-Familienzentrum Langeland)
LOCATION:
ORGANIZER;CN=henkel:MAILTO:daniela.henkel@drk-senden.de
DTSTART;TZID=Europe/Berlin:20240418T193000
DTEND;TZID=Europe/Berlin:20240418T210000
X-ALT-DESC;FMTTYPE=TEXT/HTML:
CATEGORIES:General
URL;VALUE=URI:https://kindergarten-steverspatzen.de/mc-events/kitastart-drk
 -familienzentrum-langeland/
METHOD:PUBLISH
END:VEVENT
END:VCALENDAR